BEGIN:VCALENDAR
VERSION:2.0
PRODID:-//STADTKULTUR HAMBURG//kultur-hamburg.de///DE
CALSCALE:GREGORIAN
BEGIN:VEVENT
X-WR-TIMEZONE:Europe/Berlin
DTSTART:20190331T170000
DTEND:20190331T190000
LOCATION:Moorburger Art e.V. \, Moorburger Elbdeich 263 \, 21079 Hamburg
DTSTAMP:20260421T200333
SUMMARY:Heimatabend mit Bastian Bandt & Ralf Schüller
URL;VALUE=URI:https://www.kultur-hamburg.de/veranstaltungen/heimatabend-mit-bastian-bandt-&-ralf-schueller-431811
DESCRIPTION:Mit ?Heimatkunde!? präsentieren die Liedermacher Ralph Schüller und Bastian Bandt am 31. März im Rah...
UID:e301c7a1ef08db00f87cdbec0ff975f0@kulturhamburg
END:VEVENT
END:VCALENDAR