BEGIN:VCALENDAR
VERSION:2.0
PRODID:-//STADTKULTUR HAMBURG//kultur-hamburg.de///DE
CALSCALE:GREGORIAN
BEGIN:VEVENT
X-WR-TIMEZONE:Europe/Berlin
DTSTART:20190402T193000
DTEND:20190402T213000
LOCATION:KulturKlinker Barmbek e.V. \, Lorichsstraße 28 a \, 22307 Hamburg
DTSTAMP:20260421T170310
SUMMARY:club FilmBlüte zeigt: Maulwurf vs. Maulwurf
URL;VALUE=URI:https://www.kultur-hamburg.de/veranstaltungen/club-filmbluete-zeigt-maulwurf-vs.-maulwurf-431908
DESCRIPTION:Hongkong 2002, 97 min, R: A. Lau/A. Mak – Der Undercover-Agent Yan späht im Auftrag des Oberinspektors Wong den Triadenboss Sam in Hongkong aus.
UID:0bfeab01252285a36adfa93c70af6e82@kulturhamburg
END:VEVENT
END:VCALENDAR