BEGIN:VCALENDAR
VERSION:2.0
PRODID:-//STADTKULTUR HAMBURG//kultur-hamburg.de///DE
CALSCALE:GREGORIAN
BEGIN:VEVENT
X-WR-TIMEZONE:Europe/Berlin
DTSTART:20190323T193000
DTEND:20190323T213000
LOCATION:B*Treff Altona-Nord \, Gefionstr.3 \, 22769 Hamburg
DTSTAMP:20260422T091154
SUMMARY:WORLD INSIGHT Erlebnisreisen präsentiert: „Thailand – eine magische Reise durch das Land des Lächelns“
URL;VALUE=URI:https://www.kultur-hamburg.de/veranstaltungen/world-insight-erlebnisreisen-praesentiert-thailand--eine-magische-reise-durch-das-land-des-laechelns-433901
DESCRIPTION:Weltentdecker mit Live-Reportage von Dirk Bleyer:
UID:11640c1e4edf7daddbaec28a7b32ea77@kulturhamburg
END:VEVENT
END:VCALENDAR