BEGIN:VCALENDAR
VERSION:2.0
PRODID:-//STADTKULTUR HAMBURG//kultur-hamburg.de///DE
CALSCALE:GREGORIAN
BEGIN:VEVENT
X-WR-TIMEZONE:Europe/Berlin
DTSTART:20190323T200000
DTEND:20190323T220000
LOCATION:B*Treff Altona-Nord \, Gefionstr.3 \, 22769 Hamburg
DTSTAMP:20260422T091149
SUMMARY:Impro-Doppelpack mit Impromptü (HH) & Club der Impronäre (B)
URL;VALUE=URI:https://www.kultur-hamburg.de/veranstaltungen/impro-doppelpack-mit-impromptue-hh-&-club-der-impronaere-b-433902
DESCRIPTION:Besuch aus Berlin beim Impro-Doppelpack!
UID:87acebcde1eb643e6db0cd4d9c818b06@kulturhamburg
END:VEVENT
END:VCALENDAR