BEGIN:VCALENDAR
VERSION:2.0
PRODID:-//STADTKULTUR HAMBURG//kultur-hamburg.de///DE
CALSCALE:GREGORIAN
BEGIN:VEVENT
X-WR-TIMEZONE:Europe/Berlin
DTSTART:20190329T200000
DTEND:20190329T220000
LOCATION:B*Treff Altona-Nord \, Gefionstr.3 \, 22769 Hamburg
DTSTAMP:20260421T231045
SUMMARY:Afro-Jazz mit Quéke
URL;VALUE=URI:https://www.kultur-hamburg.de/veranstaltungen/afro-jazz-mit-quke-433903
DESCRIPTION:Fetzige Bläsersätze und gefühlvolle Soli
UID:dce74968fcb83958eeaa90f0e04f6fe5@kulturhamburg
END:VEVENT
END:VCALENDAR