BEGIN:VCALENDAR
VERSION:2.0
PRODID:-//STADTKULTUR HAMBURG//kultur-hamburg.de///DE
CALSCALE:GREGORIAN
BEGIN:VEVENT
X-WR-TIMEZONE:Europe/Berlin
DTSTART:20190321T183000
DTEND:20190321T203000
LOCATION:ella Kulturhaus Langenhorn \, Käkenflur 30 (über Iserlohner Stieg) \, 22419 Hamburg
DTSTAMP:20260422T122140
SUMMARY:Plastik und Verpackungen - der ganz normale Wahnsinn
URL;VALUE=URI:https://www.kultur-hamburg.de/veranstaltungen/plastik-und-verpackungen-der-ganz-normale-wahnsinn-434125
DESCRIPTION:Die grüne ella:
Themenreihe „Umwelt, Natur & Nachhaltigkeit“.
UID:cf2d8498b6fd8a5ae4b454d6d79575f6@kulturhamburg
END:VEVENT
END:VCALENDAR