BEGIN:VCALENDAR
VERSION:2.0
PRODID:-//STADTKULTUR HAMBURG//kultur-hamburg.de///DE
CALSCALE:GREGORIAN
BEGIN:VEVENT
X-WR-TIMEZONE:Europe/Berlin
DTSTART:20190328T103000
DTEND:20190328T113000
LOCATION:ella Kulturhaus Langenhorn \, Käkenflur 30 (über Iserlohner Stieg) \, 22419 Hamburg
DTSTAMP:20260422T004911
SUMMARY:Kindertheater: Es war einmal…mit Frosch!
URL;VALUE=URI:https://www.kultur-hamburg.de/veranstaltungen/kindertheater-es-war-einmalmit-frosch!-434127
DESCRIPTION:Theater Funkenflug. Für Kinder ab 3 Jahren.
UID:28a8450c1c7ccc0b17fdbdd94b383942@kulturhamburg
END:VEVENT
END:VCALENDAR