BEGIN:VCALENDAR
VERSION:2.0
PRODID:-//STADTKULTUR HAMBURG//kultur-hamburg.de///DE
CALSCALE:GREGORIAN
BEGIN:VEVENT
X-WR-TIMEZONE:Europe/Berlin
DTSTART:20190329T190000
DTEND:20190329T210000
LOCATION:ella Kulturhaus Langenhorn \, Käkenflur 30 (über Iserlohner Stieg) \, 22419 Hamburg
DTSTAMP:20260421T231053
SUMMARY:„Erziehung in islamisch geprägten Kulturen“
URL;VALUE=URI:https://www.kultur-hamburg.de/veranstaltungen/erziehung-in-islamisch-gepraegten-kulturen-434128
DESCRIPTION:Erziehungsideen und Rollenverständnis zwischen Kultur, Tradition und Religion
UID:907a3a9b8948258995aec6d49a4453c6@kulturhamburg
END:VEVENT
END:VCALENDAR