BEGIN:VCALENDAR
VERSION:2.0
PRODID:-//STADTKULTUR HAMBURG//kultur-hamburg.de///DE
CALSCALE:GREGORIAN
BEGIN:VEVENT
X-WR-TIMEZONE:Europe/Berlin
DTSTART:20190330T200000
DTEND:20190330T213000
LOCATION:
DTSTAMP:20260421T213319
SUMMARY:Hasan ist schwanger
URL;VALUE=URI:https://www.kultur-hamburg.de/veranstaltungen/hasan-ist-schwanger-434208
DESCRIPTION:Ein weiterer Schritt um der Unsichtbarkeit von Frauen entgegen zu wirken.
UID:0954aea07c295efe2914b8f5f31f3eb6@kulturhamburg
END:VEVENT
END:VCALENDAR