BEGIN:VCALENDAR
VERSION:2.0
PRODID:-//STADTKULTUR HAMBURG//kultur-hamburg.de///DE
CALSCALE:GREGORIAN
BEGIN:VEVENT
X-WR-TIMEZONE:Europe/Berlin
DTSTART:20190906T193000
DTEND:20190906T220000
LOCATION:Horner Freiheit \, Am Gojenboom 46 \, 22111 Hamburg
DTSTAMP:20260423T051128
SUMMARY:Storytellers 3
URL;VALUE=URI:https://www.kultur-hamburg.de/veranstaltungen/storytellers-3-434616
DESCRIPTION:Der Klassiker in der Horner Freiheit, der kein Klassiker ist.

Eine einzigartige Reise aus Liedern und 
Erzählungen.

Maggy Wessel, Timmi Timmann und Mike 
Knubbe spielen Country, Folk, Americana und Bluegrass mit Herzblut.

Die Storyteller spielen ihre eigenen Geschichten, die sich über den Abend zu einer gemeinsamen Erzählung entwickelt - ganz ohne Script!

Voverkauf auf TixForGigs.de und im Haus.
UID:8f686dfe366ddbca0e83287e1f8f9abb@kulturhamburg
END:VEVENT
END:VCALENDAR