BEGIN:VCALENDAR
VERSION:2.0
PRODID:-//STADTKULTUR HAMBURG//kultur-hamburg.de///DE
CALSCALE:GREGORIAN
BEGIN:VEVENT
X-WR-TIMEZONE:Europe/Berlin
DTSTART:20190328T100000
DTEND:20190328T140000
LOCATION:Kinderbuchhaus im Altonaer Museum \, Museumstraße 23 \, 22765 Hamburg
DTSTAMP:20260422T005103
SUMMARY:BOYS' DAY 2019: »Sei schlau – schau!« – Werkstatt zum Plakatwettbewerb der Hamburger Polizei
URL;VALUE=URI:https://www.kultur-hamburg.de/veranstaltungen/boys'-day-2019-sei-schlau--schau!--werkstatt-zum-plakatwettbewerb-der-hamburger-polizei-434717
DESCRIPTION:Illustrationswerkstatt mit Illustrator Jonas Lauströer
UID:491a25d822a156d73b07246f0e6425b7@kulturhamburg
END:VEVENT
END:VCALENDAR