BEGIN:VCALENDAR
VERSION:2.0
PRODID:-//STADTKULTUR HAMBURG//kultur-hamburg.de///DE
CALSCALE:GREGORIAN
BEGIN:VEVENT
X-WR-TIMEZONE:Europe/Berlin
DTSTART:20190328T193000
DTEND:20190328T213000
LOCATION:Haus im Park der Körberstiftung \, Gräpelweg 8 \, 21029 Hamburg
DTSTAMP:20260422T005230
SUMMARY:Türkei im Fokus
URL;VALUE=URI:https://www.kultur-hamburg.de/veranstaltungen/tuerkei-im-fokus-435115
DESCRIPTION:„Machstreben am Rande Europas – eine außenpolitische Standortbestimmung“
UID:cbff1b2336969c3f98e3892a75158a33@kulturhamburg
END:VEVENT
END:VCALENDAR