BEGIN:VCALENDAR
VERSION:2.0
PRODID:-//STADTKULTUR HAMBURG//kultur-hamburg.de///DE
CALSCALE:GREGORIAN
BEGIN:VEVENT
X-WR-TIMEZONE:Europe/Berlin
DTSTART:20190328T190000
DTEND:20190328T210000
LOCATION:LOLA Kulturzentrum \, Lohbrügger Landstraße 8 \, 21031 Hamburg
DTSTAMP:20260422T003740
SUMMARY:Theater ohne Grenzen
URL;VALUE=URI:https://www.kultur-hamburg.de/veranstaltungen/theater-ohne-grenzen-435116
DESCRIPTION:„Der Schlüssel zum Glück“
UID:e3262eefdc0ea176a9d2bed4d1c9fad3@kulturhamburg
END:VEVENT
END:VCALENDAR