BEGIN:VCALENDAR
VERSION:2.0
PRODID:-//STADTKULTUR HAMBURG//kultur-hamburg.de///DE
CALSCALE:GREGORIAN
BEGIN:VEVENT
X-WR-TIMEZONE:Europe/Berlin
DTSTART:20190323T200000
DTEND:20190323T220000
LOCATION:Stellwerk \, Hannoversche Straße 85 \, 21079 Hamburg
DTSTAMP:20260422T091149
SUMMARY:Desert Hazard XIX - Das Duell der dynamischen Duos
URL;VALUE=URI:https://www.kultur-hamburg.de/veranstaltungen/desert-hazard-xix-das-duell-der-dynamischen-duos-435131
DESCRIPTION:
UID:005decd6bacab6e5b3fefeacf77156b2@kulturhamburg
END:VEVENT
END:VCALENDAR