BEGIN:VCALENDAR
VERSION:2.0
PRODID:-//STADTKULTUR HAMBURG//kultur-hamburg.de///DE
CALSCALE:GREGORIAN
BEGIN:VEVENT
X-WR-TIMEZONE:Europe/Berlin
DTSTART:20190325T193000
DTEND:20190325T213000
LOCATION:KulturWerkstatt Harburg e.V. \, Kanalplatz 6 \, 21079 Hamburg
DTSTAMP:20260422T053907
SUMMARY:AusLese
URL;VALUE=URI:https://www.kultur-hamburg.de/veranstaltungen/auslese-435466
DESCRIPTION:vorstadtfiguren: frau engelmann und die anderenvorstadtfiguren: frau engelmann und die anderen
UID:a15deef23feb47a40a4dc45d14ab1294@kulturhamburg
END:VEVENT
END:VCALENDAR