BEGIN:VCALENDAR
VERSION:2.0
PRODID:-//STADTKULTUR HAMBURG//kultur-hamburg.de///DE
CALSCALE:GREGORIAN
BEGIN:VEVENT
X-WR-TIMEZONE:Europe/Berlin
DTSTART:20190324T160000
DTEND:20190324T180000
LOCATION:Stadtteilhaus Lurup \, Luruper Hauptstraße 155 \, 22547 Hamburg
DTSTAMP:20260422T072735
SUMMARY:Moby Dick Theater
URL;VALUE=URI:https://www.kultur-hamburg.de/veranstaltungen/moby-dick-theater-435644
DESCRIPTION:Theater Triebwerk, Abenteuergeschichte mit Live-Musik für Erwachsene und Jugendliche ab 10 Jahren
UID:a09f42e270e1801a8ede0aaf68ea2a13@kulturhamburg
END:VEVENT
END:VCALENDAR