BEGIN:VCALENDAR
VERSION:2.0
PRODID:-//STADTKULTUR HAMBURG//kultur-hamburg.de///DE
CALSCALE:GREGORIAN
BEGIN:VEVENT
X-WR-TIMEZONE:Europe/Berlin
DTSTART:20190830T203000
DTEND:20190830T223000
LOCATION:MOTTE VERANSTALTUNGEN \, Rothestraße 48 \, 22765 Hamburg
DTSTAMP:20260422T173040
SUMMARY:FischerMarie
URL;VALUE=URI:https://www.kultur-hamburg.de/veranstaltungen/fischermarie-436196
DESCRIPTION:
UID:9c3a75568fc91d3c0cfeb82ca7dff5ed@kulturhamburg
END:VEVENT
END:VCALENDAR