BEGIN:VCALENDAR
VERSION:2.0
PRODID:-//STADTKULTUR HAMBURG//kultur-hamburg.de///DE
CALSCALE:GREGORIAN
BEGIN:VEVENT
X-WR-TIMEZONE:Europe/Berlin
DTSTART:20190823T190000
DTEND:20190823T210000
LOCATION:KulturWerkstatt Harburg e.V. \, Kanalplatz 6 \, 21079 Hamburg
DTSTAMP:20260420T055017
SUMMARY:Vernissage
URL;VALUE=URI:https://www.kultur-hamburg.de/veranstaltungen/vernissage-436316
DESCRIPTION:KulturWerkstatt Harburg, Vernissage, Überwiegend farbig, 23. August
UID:1a9508a119893c425455feb9139286ef@kulturhamburg
END:VEVENT
END:VCALENDAR