BEGIN:VCALENDAR
VERSION:2.0
PRODID:-//STADTKULTUR HAMBURG//kultur-hamburg.de///DE
CALSCALE:GREGORIAN
BEGIN:VEVENT
X-WR-TIMEZONE:Europe/Berlin
DTSTART:20190404T190000
DTEND:20190404T210000
LOCATION:Elternschule Langenhorn \, Holitzberg 139 a \, 22417 Hamburg
DTSTAMP:20260421T134455
SUMMARY:„Schreib mir. Und vor allem liebe mich.“ Briefe der Frida Kahlo
URL;VALUE=URI:https://www.kultur-hamburg.de/veranstaltungen/schreib-mir.-und-vor-allem-liebe-mich.-briefe-der-frida-kahlo-436346
DESCRIPTION:Saskia Junggeburth liest Briefe der mexikanischen Künstlerin
UID:6dfbcd4faa524537da14815094828b22@kulturhamburg
END:VEVENT
END:VCALENDAR