BEGIN:VCALENDAR
VERSION:2.0
PRODID:-//STADTKULTUR HAMBURG//kultur-hamburg.de///DE
CALSCALE:GREGORIAN
BEGIN:VEVENT
X-WR-TIMEZONE:Europe/Berlin
DTSTART:20190323T220000
DTEND:20190324T000000
LOCATION:The Old Dubliner - Irish Pub \, Neue Straße 56-58 \,  Hamburg
DTSTAMP:20260422T091154
SUMMARY:Steve Kavanagh
URL;VALUE=URI:https://www.kultur-hamburg.de/veranstaltungen/steve-kavanagh-436499
DESCRIPTION:Singer & Songwriter from Dublin, Rock / Pop

Steve Kavanagh ist ein Singer & Songwriter aus Dublin, ...
UID:9d852d51d0e79d25cf86911a6a4e0d0c@kulturhamburg
END:VEVENT
END:VCALENDAR