BEGIN:VCALENDAR
VERSION:2.0
PRODID:-//STADTKULTUR HAMBURG//kultur-hamburg.de///DE
CALSCALE:GREGORIAN
BEGIN:VEVENT
X-WR-TIMEZONE:Europe/Berlin
DTSTART:20190327T220000
DTEND:20190328T000000
LOCATION:The Old Dubliner - Irish Pub \, Neue Straße 56-58 \,  Hamburg
DTSTAMP:20260422T021448
SUMMARY:Open Stage
URL;VALUE=URI:https://www.kultur-hamburg.de/veranstaltungen/open-stage-436500
DESCRIPTION:Singer & Songwriter, Rock & Pop, Irish Folk und mehr sind  bei uns an 2ten und 4ten Mittwoch des Mon...
UID:5dcdee6a1b8ad36c396f53d786b7e2f7@kulturhamburg
END:VEVENT
END:VCALENDAR