BEGIN:VCALENDAR
VERSION:2.0
PRODID:-//STADTKULTUR HAMBURG//kultur-hamburg.de///DE
CALSCALE:GREGORIAN
BEGIN:VEVENT
X-WR-TIMEZONE:Europe/Berlin
DTSTART:20190329T220000
DTEND:20190330T000000
LOCATION:The Old Dubliner - Irish Pub \, Neue Straße 56-58 \,  Hamburg
DTSTAMP:20260421T231130
SUMMARY:Ronnie Finn
URL;VALUE=URI:https://www.kultur-hamburg.de/veranstaltungen/ronnie-finn-436501
DESCRIPTION:Irish Folk

Ronnie Finn, mit klassischer Musik und  Rock ?n? Roll aufgewachsen, betrat 1978 das erst...
UID:d90248e4009e26278a25c773f3eda14e@kulturhamburg
END:VEVENT
END:VCALENDAR