BEGIN:VCALENDAR
VERSION:2.0
PRODID:-//STADTKULTUR HAMBURG//kultur-hamburg.de///DE
CALSCALE:GREGORIAN
BEGIN:VEVENT
X-WR-TIMEZONE:Europe/Berlin
DTSTART:20190330T220000
DTEND:20190331T000000
LOCATION:The Old Dubliner - Irish Pub \, Neue Straße 56-58 \,  Hamburg
DTSTAMP:20260421T213319
SUMMARY:Falke Collective
URL;VALUE=URI:https://www.kultur-hamburg.de/veranstaltungen/falke-collective-436502
DESCRIPTION:Rock-Pop

Als mitreißendes Pop / Rock-Trio aus Neuseeland und Deutschland bietet Falke Collective ei...
UID:f628570640911b5c0a918a5f52254e19@kulturhamburg
END:VEVENT
END:VCALENDAR