BEGIN:VCALENDAR
VERSION:2.0
PRODID:-//STADTKULTUR HAMBURG//kultur-hamburg.de///DE
CALSCALE:GREGORIAN
BEGIN:VEVENT
X-WR-TIMEZONE:Europe/Berlin
DTSTART:20190921T220000
DTEND:20190922T040000
LOCATION:MOTTE VERANSTALTUNGEN \, Rothestraße 48 \, 22765 Hamburg
DTSTAMP:20260424T052733
SUMMARY:Northern Soul MOTTE Allnighter
URL;VALUE=URI:https://www.kultur-hamburg.de/veranstaltungen/northern-soul-motte-allnighter-436571
DESCRIPTION:If you are serious about Northern Soul, this is the place to be !!!
UID:aabb7900ae423a0a76d648db9b2493f0@kulturhamburg
END:VEVENT
END:VCALENDAR