BEGIN:VCALENDAR
VERSION:2.0
PRODID:-//STADTKULTUR HAMBURG//kultur-hamburg.de///DE
CALSCALE:GREGORIAN
BEGIN:VEVENT
X-WR-TIMEZONE:Europe/Berlin
DTSTART:20190830T200000
DTEND:20190830T220000
LOCATION:Kulturhof Dulsberg \, Alter Teichweg 200 \, 22049 Hamburg
DTSTAMP:20260422T175419
SUMMARY:Konzert mit dem Weimar Guitar Quartet | Hamburger Gitarrentage 2019
URL;VALUE=URI:https://www.kultur-hamburg.de/veranstaltungen/konzert-mit-dem-weimar-guitar-quartet--hamburger-gitarrentage-2019-436577
DESCRIPTION:Stephanie Jones (AU), Karmen Štendler (SI), Hanna Link (DE) und Jakob Schmidt (DE)
UID:acd6506164ef5e499b426dca6cf92f5f@kulturhamburg
END:VEVENT
END:VCALENDAR