BEGIN:VCALENDAR
VERSION:2.0
PRODID:-//STADTKULTUR HAMBURG//kultur-hamburg.de///DE
CALSCALE:GREGORIAN
BEGIN:VEVENT
X-WR-TIMEZONE:Europe/Berlin
DTSTART:20190920T193000
DTEND:20190920T213000
LOCATION:Elbphilharmonie (Kleiner Saal) \, Platz der Deutschen Einheit 1 \, 20457 Hamburg
DTSTAMP:20260424T040624
SUMMARY:Konzert mit Manuel Barrueco | Hamburger Gitarrentage 2019
URL;VALUE=URI:https://www.kultur-hamburg.de/veranstaltungen/konzert-mit-manuel-barrueco--hamburger-gitarrentage-2019-437464
DESCRIPTION:Eine echte „Gitarrenlegende“ im Konzert
UID:7a8a32a0945870dc45c172727107704c@kulturhamburg
END:VEVENT
END:VCALENDAR