BEGIN:VCALENDAR
VERSION:2.0
PRODID:-//STADTKULTUR HAMBURG//kultur-hamburg.de///DE
CALSCALE:GREGORIAN
BEGIN:VEVENT
X-WR-TIMEZONE:Europe/Berlin
DTSTART:20190330T200000
DTEND:20190330T220000
LOCATION:KulturWerkstatt Harburg \, Kanalplatz 6 \, 21079 Hamburg
DTSTAMP:20260421T214047
SUMMARY:TANGO FATAL - Konzert & Lesung
URL;VALUE=URI:https://www.kultur-hamburg.de/veranstaltungen/tango-fatal-konzert-&-lesung-437721
DESCRIPTION:Dagmar Narbèl und Jutta Jagenteufel, bekannt als DaJú, verschmelzen mit Violine und Akkordeon zum kl...
UID:a954c2007905c3304c0f7f437ea70608@kulturhamburg
END:VEVENT
END:VCALENDAR