BEGIN:VCALENDAR
VERSION:2.0
PRODID:-//STADTKULTUR HAMBURG//kultur-hamburg.de///DE
CALSCALE:GREGORIAN
BEGIN:VEVENT
X-WR-TIMEZONE:Europe/Berlin
DTSTART:20190830T200000
DTEND:20190830T230000
LOCATION:KulturWerkstatt Harburg e.V. \, Kanalplatz 6 \, 21079 Hamburg
DTSTAMP:20260422T175033
SUMMARY:Kino
URL;VALUE=URI:https://www.kultur-hamburg.de/veranstaltungen/kino-439444
DESCRIPTION:Der Feuerwehrball
UID:2a2390d26130eb935aa2a0362a3ef454@kulturhamburg
END:VEVENT
END:VCALENDAR