BEGIN:VCALENDAR
VERSION:2.0
PRODID:-//STADTKULTUR HAMBURG//kultur-hamburg.de///DE
CALSCALE:GREGORIAN
BEGIN:VEVENT
X-WR-TIMEZONE:Europe/Berlin
DTSTART:20190831T210000
DTEND:20190831T230000
LOCATION:LOLA Kulturzentrum \, Lohbrügger Landstraße 8 \, 21031 Hamburg
DTSTAMP:20260422T190809
SUMMARY:LOLA Swingt! Big  Band Dance Night
URL;VALUE=URI:https://www.kultur-hamburg.de/veranstaltungen/lola-swingt!-big-band-dance-night-441460
DESCRIPTION:Swing’n Roll Party mit der Shiny Stockings Big Band & DJ
UID:fd1a9df8d862d5cee22b2dcc1f9f766c@kulturhamburg
END:VEVENT
END:VCALENDAR