BEGIN:VCALENDAR
VERSION:2.0
PRODID:-//STADTKULTUR HAMBURG//kultur-hamburg.de///DE
CALSCALE:GREGORIAN
BEGIN:VEVENT
X-WR-TIMEZONE:Europe/Berlin
DTSTART:20190901T100000
DTEND:20190901T160000
LOCATION:Goldbekhaus \, Moorfuhrtweg 9 \, 22301 Hamburg
DTSTAMP:20260422T204750
SUMMARY:Flohmarkt auf dem Hof
URL;VALUE=URI:https://www.kultur-hamburg.de/veranstaltungen/flohmarkt-auf-dem-hof-441748
DESCRIPTION:
UID:62acea2aa717e561d1fefa1ab5a42255@kulturhamburg
END:VEVENT
END:VCALENDAR