BEGIN:VCALENDAR
VERSION:2.0
PRODID:-//STADTKULTUR HAMBURG//kultur-hamburg.de///DE
CALSCALE:GREGORIAN
BEGIN:VEVENT
X-WR-TIMEZONE:Europe/Berlin
DTSTART:20190817T100000
DTEND:20190817T160000
LOCATION:Goldbekhaus \, Moorfuhrtweg 9 \, 22301 Hamburg
DTSTAMP:20260419T201156
SUMMARY:Flohmarkt auf dem Hof
URL;VALUE=URI:https://www.kultur-hamburg.de/veranstaltungen/flohmarkt-auf-dem-hof-441757
DESCRIPTION:Einer der schönsten Flohmärkte Hamburgs!
UID:e77a45435cef6ebc800d588c57c4042a@kulturhamburg
END:VEVENT
END:VCALENDAR