BEGIN:VCALENDAR
VERSION:2.0
PRODID:-//STADTKULTUR HAMBURG//kultur-hamburg.de///DE
CALSCALE:GREGORIAN
BEGIN:VEVENT
X-WR-TIMEZONE:Europe/Berlin
DTSTART:20190816T203000
DTEND:20190817T010000
LOCATION:Schule Meerweinstraße \, Meerweinstraße 26 \, 22303 Hamburg
DTSTAMP:20260419T182058
SUMMARY:Tanz inTakt
URL;VALUE=URI:https://www.kultur-hamburg.de/veranstaltungen/tanz-intakt-442473
DESCRIPTION:Für alle Fans von Walzer, Tango, Cha Cha Cha
UID:865a57df4b90f5fae0393b645393baa3@kulturhamburg
END:VEVENT
END:VCALENDAR