BEGIN:VCALENDAR
VERSION:2.0
PRODID:-//STADTKULTUR HAMBURG//kultur-hamburg.de///DE
CALSCALE:GREGORIAN
BEGIN:VEVENT
X-WR-TIMEZONE:Europe/Berlin
DTSTART:20190823T203000
DTEND:20190824T010000
LOCATION:Schule Meerweinstraße \, Meerweinstraße 26 \, 22303 Hamburg
DTSTAMP:20260420T055017
SUMMARY:Tanz inTakt
URL;VALUE=URI:https://www.kultur-hamburg.de/veranstaltungen/tanz-intakt-442474
DESCRIPTION:Für alle Fans von Walzer, Tango, Cha Cha Cha
UID:9a64a802c1136953f5f2443eb7fbee84@kulturhamburg
END:VEVENT
END:VCALENDAR