BEGIN:VCALENDAR
VERSION:2.0
PRODID:-//STADTKULTUR HAMBURG//kultur-hamburg.de///DE
CALSCALE:GREGORIAN
BEGIN:VEVENT
X-WR-TIMEZONE:Europe/Berlin
DTSTART:20190830T203000
DTEND:20190831T010000
LOCATION:Schule Meerweinstraße \, Meerweinstraße 26 \, 22303 Hamburg
DTSTAMP:20260422T173254
SUMMARY:Tanz inTakt
URL;VALUE=URI:https://www.kultur-hamburg.de/veranstaltungen/tanz-intakt-442475
DESCRIPTION:Für alle Fans von Walzer, Tango, Cha Cha Cha
UID:dda7702808b9461515509ca53071ac52@kulturhamburg
END:VEVENT
END:VCALENDAR