BEGIN:VCALENDAR
VERSION:2.0
PRODID:-//STADTKULTUR HAMBURG//kultur-hamburg.de///DE
CALSCALE:GREGORIAN
BEGIN:VEVENT
X-WR-TIMEZONE:Europe/Berlin
DTSTART:20191220T193000
DTEND:20191220T220000
LOCATION:Horner Freiheit \, Am Gojenboom 46 \, 22111 Hamburg
DTSTAMP:20260422T083213
SUMMARY:Hafennacht: Seestücke - von Land aus gesehen
URL;VALUE=URI:https://www.kultur-hamburg.de/veranstaltungen/hafennacht-seestuecke-von-land-aus-gesehen-442999
DESCRIPTION:Neue Chansons von Leben am Meer mit Ohrwurmpotenzial
UID:ec8c752d2b0f0b0df79046a60925dcef@kulturhamburg
END:VEVENT
END:VCALENDAR