BEGIN:VCALENDAR
VERSION:2.0
PRODID:-//STADTKULTUR HAMBURG//kultur-hamburg.de///DE
CALSCALE:GREGORIAN
BEGIN:VEVENT
X-WR-TIMEZONE:Europe/Berlin
DTSTART:20190912T200000
DTEND:20190912T230000
LOCATION:KUNSTKLINIK \, Martinistraße 44a \, 20251 Hamburg
DTSTAMP:20260423T152243
SUMMARY:Dünnes Eis - Die Impro *Donner Stage*
URL;VALUE=URI:https://www.kultur-hamburg.de/veranstaltungen/duennes-eis-die-impro-donner-stage-444377
DESCRIPTION:
UID:7f84165b2b7ac8207fae3fdbd825e4e0@kulturhamburg
END:VEVENT
END:VCALENDAR