BEGIN:VCALENDAR
VERSION:2.0
PRODID:-//STADTKULTUR HAMBURG//kultur-hamburg.de///DE
CALSCALE:GREGORIAN
BEGIN:VEVENT
X-WR-TIMEZONE:Europe/Berlin
DTSTART:20190921T230000
DTEND:20190922T010000
LOCATION:LOLA Kulturzentrum \, Lohbrügger Landstraße 8 \, 21031 Hamburg
DTSTAMP:20260424T052016
SUMMARY:Beats United
URL;VALUE=URI:https://www.kultur-hamburg.de/veranstaltungen/beats-united-445152
DESCRIPTION:Die LOLA Mixed-Party
UID:baa5e2b9f8ddf1fce59dee8c4ed7bdab@kulturhamburg
END:VEVENT
END:VCALENDAR