BEGIN:VCALENDAR
VERSION:2.0
PRODID:-//STADTKULTUR HAMBURG//kultur-hamburg.de///DE
CALSCALE:GREGORIAN
BEGIN:VEVENT
X-WR-TIMEZONE:Europe/Berlin
DTSTART:20191221T230000
DTEND:20191222T010000
LOCATION:LOLA Kulturzentrum \, Lohbrügger Landstraße 8 \, 21031 Hamburg
DTSTAMP:20260422T072114
SUMMARY:Beats United
URL;VALUE=URI:https://www.kultur-hamburg.de/veranstaltungen/beats-united-445155
DESCRIPTION:Die LOLA Mixed-Party
UID:cbd3246a7b755350e68bda26080ebb07@kulturhamburg
END:VEVENT
END:VCALENDAR