BEGIN:VCALENDAR
VERSION:2.0
PRODID:-//STADTKULTUR HAMBURG//kultur-hamburg.de///DE
CALSCALE:GREGORIAN
BEGIN:VEVENT
X-WR-TIMEZONE:Europe/Berlin
DTSTART:20190907T230000
DTEND:20190908T010000
LOCATION:LOLA Kulturzentrum \, Lohbrügger Landstraße 8 \, 21031 Hamburg
DTSTAMP:20260423T070232
SUMMARY:Beats United
URL;VALUE=URI:https://www.kultur-hamburg.de/veranstaltungen/beats-united-445157
DESCRIPTION:Die LOLA Mixed-Party
UID:575680d76c655cb33adaaab7faabf859@kulturhamburg
END:VEVENT
END:VCALENDAR