BEGIN:VCALENDAR
VERSION:2.0
PRODID:-//STADTKULTUR HAMBURG//kultur-hamburg.de///DE
CALSCALE:GREGORIAN
BEGIN:VEVENT
X-WR-TIMEZONE:Europe/Berlin
DTSTART:20190912T200000
DTEND:20190912T220000
LOCATION:LOLA Kulturzentrum \, Lohbrügger Landstraße 8 \, 21031 Hamburg
DTSTAMP:20260423T152107
SUMMARY:Steife Brise
URL;VALUE=URI:https://www.kultur-hamburg.de/veranstaltungen/steife-brise-445213
DESCRIPTION:Improshow – die spontane Breitseite
UID:ad681c4320a019f85d1caa8feeaadd7c@kulturhamburg
END:VEVENT
END:VCALENDAR