BEGIN:VCALENDAR
VERSION:2.0
PRODID:-//STADTKULTUR HAMBURG//kultur-hamburg.de///DE
CALSCALE:GREGORIAN
BEGIN:VEVENT
X-WR-TIMEZONE:Europe/Berlin
DTSTART:20190818T144500
DTEND:20190818T153500
LOCATION:Wendebecken Langenfort \, Langenfort/Elligersweg/Steillshooper Str. \, 22307 Hamburg
DTSTAMP:20260419T214243
SUMMARY:HörSpielWiese Barmbek
URL;VALUE=URI:https://www.kultur-hamburg.de/veranstaltungen/hoerspielwiese-barmbek-445244
DESCRIPTION:Open Air Hörspiele für Jung und Alt.
Als Tiger und Bär beinahe das Beste verpassten
UID:b84e8a879b12410f1554b5638fe7ff86@kulturhamburg
END:VEVENT
END:VCALENDAR