BEGIN:VCALENDAR
VERSION:2.0
PRODID:-//STADTKULTUR HAMBURG//kultur-hamburg.de///DE
CALSCALE:GREGORIAN
BEGIN:VEVENT
X-WR-TIMEZONE:Europe/Berlin
DTSTART:20190818T170000
DTEND:20190818T180000
LOCATION:Wendebecken Langenfort \, Langenfort/Elligersweg/Steillshooper Str. \, 22307 Hamburg
DTSTAMP:20260419T213223
SUMMARY:HörSpielWiese Barmbek
URL;VALUE=URI:https://www.kultur-hamburg.de/veranstaltungen/hoerspielwiese-barmbek-445246
DESCRIPTION:Open Air Hörspiel für Jung und Alt
Männer mit Erfahrung
UID:b80b54db378fa93909932019b4c875c9@kulturhamburg
END:VEVENT
END:VCALENDAR