BEGIN:VCALENDAR
VERSION:2.0
PRODID:-//STADTKULTUR HAMBURG//kultur-hamburg.de///DE
CALSCALE:GREGORIAN
BEGIN:VEVENT
X-WR-TIMEZONE:Europe/Berlin
DTSTART:20190818T180000
DTEND:20190818T191000
LOCATION:Wendebecken Langenfort \, Langenfort/Elligersweg/Steillshooper Str. \, 22307 Hamburg
DTSTAMP:20260419T213519
SUMMARY:HörSpieWiese Barmbek
URL;VALUE=URI:https://www.kultur-hamburg.de/veranstaltungen/hoerspiewiese-barmbek-445247
DESCRIPTION:Open Air Hörspiel 
Der Fjord II
UID:04a9958b2af0796843ec7f4add9283b9@kulturhamburg
END:VEVENT
END:VCALENDAR