BEGIN:VCALENDAR
VERSION:2.0
PRODID:-//STADTKULTUR HAMBURG//kultur-hamburg.de///DE
CALSCALE:GREGORIAN
BEGIN:VEVENT
X-WR-TIMEZONE:Europe/Berlin
DTSTART:20190817T140000
DTEND:20190817T143000
LOCATION:Wendebecken Langenfort \, Langenfort/Elligersweg/Steillshooper Str. \, 22307 Hamburg
DTSTAMP:20260419T195526
SUMMARY:HörSpielWiese Barmbek
URL;VALUE=URI:https://www.kultur-hamburg.de/veranstaltungen/hoerspielwiese-barmbek-445249
DESCRIPTION:Open Air Hörspiel für Jung und Alt:
Kamfu mir helfen?
UID:5a95b02cb17a1968f284a21673c15d32@kulturhamburg
END:VEVENT
END:VCALENDAR