BEGIN:VCALENDAR
VERSION:2.0
PRODID:-//STADTKULTUR HAMBURG//kultur-hamburg.de///DE
CALSCALE:GREGORIAN
BEGIN:VEVENT
X-WR-TIMEZONE:Europe/Berlin
DTSTART:20190817T143000
DTEND:20190817T151500
LOCATION:Wendebecken Langenfort \, Langenfort/Elligersweg/Steillshooper Str. \, 22307 Hamburg
DTSTAMP:20260419T201535
SUMMARY:HörSpielWiese Barmbek
URL;VALUE=URI:https://www.kultur-hamburg.de/veranstaltungen/hoerspielwiese-barmbek-445250
DESCRIPTION:Open Ait Hörspiel für Jung und Alt:
Der Regenbogen - Geschichtenlieder
UID:49b15323ded9732e728640233fd45573@kulturhamburg
END:VEVENT
END:VCALENDAR