BEGIN:VCALENDAR
VERSION:2.0
PRODID:-//STADTKULTUR HAMBURG//kultur-hamburg.de///DE
CALSCALE:GREGORIAN
BEGIN:VEVENT
X-WR-TIMEZONE:Europe/Berlin
DTSTART:20190817T151500
DTEND:20190817T154500
LOCATION:Wendebecken Langenfort \, Langenfort/Elligersweg/Steillshooper Str. \, 22307 Hamburg
DTSTAMP:20260419T200524
SUMMARY:HörSpielWiese Barmbek
URL;VALUE=URI:https://www.kultur-hamburg.de/veranstaltungen/hoerspielwiese-barmbek-445251
DESCRIPTION:Open Air Hörspiel für Jung uns Alt:
Die Geschichte vom Löwen, der nicht schreiben konnte
UID:3538242073a1df5edfde4f2575eeb8db@kulturhamburg
END:VEVENT
END:VCALENDAR