BEGIN:VCALENDAR
VERSION:2.0
PRODID:-//STADTKULTUR HAMBURG//kultur-hamburg.de///DE
CALSCALE:GREGORIAN
BEGIN:VEVENT
X-WR-TIMEZONE:Europe/Berlin
DTSTART:20190817T174500
DTEND:20190817T184500
LOCATION:Wendebecken Langenfort \, Langenfort/Elligersweg/Steillshooper Str. \, 22307 Hamburg
DTSTAMP:20260419T195632
SUMMARY:HörSpielWiese Barmbek
URL;VALUE=URI:https://www.kultur-hamburg.de/veranstaltungen/hoerspielwiese-barmbek-445254
DESCRIPTION:Open Air Hörspiel:
Illegal
UID:3c6d6e2e140181df59aac2be2b896288@kulturhamburg
END:VEVENT
END:VCALENDAR