BEGIN:VCALENDAR
VERSION:2.0
PRODID:-//STADTKULTUR HAMBURG//kultur-hamburg.de///DE
CALSCALE:GREGORIAN
BEGIN:VEVENT
X-WR-TIMEZONE:Europe/Berlin
DTSTART:20190918T193000
DTEND:20190918T213000
LOCATION:KUNSTKLINIK \, Martinistraße 44a \, 20251 Hamburg
DTSTAMP:20260424T004333
SUMMARY:Text & Theke
URL;VALUE=URI:https://www.kultur-hamburg.de/veranstaltungen/text-&-theke-445645
DESCRIPTION:
UID:912af524e5a5886f6e85ad66e6524c3a@kulturhamburg
END:VEVENT
END:VCALENDAR