BEGIN:VCALENDAR
VERSION:2.0
PRODID:-//STADTKULTUR HAMBURG//kultur-hamburg.de///DE
CALSCALE:GREGORIAN
BEGIN:VEVENT
X-WR-TIMEZONE:Europe/Berlin
DTSTART:20191218T193000
DTEND:20191218T213000
LOCATION:KUNSTKLINIK \, Martinistraße 44a \, 20251 Hamburg
DTSTAMP:20260422T115221
SUMMARY:Text & Theke
URL;VALUE=URI:https://www.kultur-hamburg.de/veranstaltungen/text-&-theke-445648
DESCRIPTION:
UID:447b1900c27077bf679fd23a7dac58ae@kulturhamburg
END:VEVENT
END:VCALENDAR