BEGIN:VCALENDAR
VERSION:2.0
PRODID:-//STADTKULTUR HAMBURG//kultur-hamburg.de///DE
CALSCALE:GREGORIAN
BEGIN:VEVENT
X-WR-TIMEZONE:Europe/Berlin
DTSTART:20190924T100000
DTEND:20190924T123000
LOCATION:W3_ \, Nernstweg 32-34 \, 22765 Hamburg
DTSTAMP:20260424T102700
SUMMARY:Offenes Werkstatt-Treffen: Die Werkstatt-Gruppe lädt ein
URL;VALUE=URI:https://www.kultur-hamburg.de/veranstaltungen/offenes-werkstatt-treffen-die-werkstatt-gruppe-laedt-ein-446351
DESCRIPTION:Am 24.9.2019 von 10:00-12:30 Uhr laden wir als Werkstatt-Gruppe im Rahmen des W3-Jubiläums ein, uns kennenzulernen und sich über Themen auszutauschen, die uns als Werkstatt-Gruppe bewegen.
UID:d1eaa7c431afa73a4409705796811cae@kulturhamburg
END:VEVENT
END:VCALENDAR